BEGIN:VCALENDAR
VERSION:2.0
PRODID:-//54.225.178.177//NONSGML kigkonsult.se iCalcreator 2.26.9//
CALSCALE:GREGORIAN
METHOD:PUBLISH
X-WR-CALNAME:NM Technology Assistance Program
X-WR-CALDESC:
X-FROM-URL:http://www.tap.gcd.state.nm.us
X-WR-TIMEZONE:America/Denver
BEGIN:VTIMEZONE
TZID:America/Denver
X-LIC-LOCATION:America/Denver
BEGIN:STANDARD
DTSTART:20201101T020000
TZOFFSETFROM:-0600
TZOFFSETTO:-0700
RDATE:20211107T020000
TZNAME:MST
END:STANDARD
BEGIN:DAYLIGHT
DTSTART:20210314T020000
TZOFFSETFROM:-0700
TZOFFSETTO:-0600
RDATE:20220313T020000
TZNAME:MDT
END:DAYLIGHT
END:VTIMEZONE
BEGIN:VEVENT
UID:ai1ec-2344@www.tap.gcd.state.nm.us
DTSTAMP:20210425T124820Z
CATEGORIES:
CONTACT:UNM Center for Development and Disability\; 505-272-3000\; https://
 www.cdd.unm.edu/
DESCRIPTION:Join our very own AT Coordinator Jesse Armijo and AT Specialist
  Maurice Alvarez for a webinar on “How to Gain Education & Employment Inde
 pendence with Assistive Technology” at the Imagine Conference hosted by th
 e UNM Center for Development and Disability.\nYou must register in advance
  for this webinar being held on May 6th\, 2021 at 3:30pm.\nRegistration fo
 r this webinar is open through April 30th\, 2021 at 9:59pm.\nSpanish trans
 lation is being offered for all Imagine Conference training sessions. Plea
 se contact UNM Center for Development and Disability for accommodations.
DTSTART;TZID=America/Denver:20210506T153000
DTEND;TZID=America/Denver:20210506T170000
LOCATION:The Imagine Conference Series
SEQUENCE:0
SUMMARY:How to Gain Education & Employment  Independence with Assistive Tec
 hnology
URL:http://www.tap.gcd.state.nm.us/event/how-to-gain-education-employment-i
 ndependence-with-assistive-technology/
X-COST-TYPE:free
X-ALT-DESC;FMTTYPE=text/html:<!DOCTYPE HTML PUBLIC '-//W3C//DTD HTML 3.2//E
 N'>\\n<HTML>\\n<HEAD>\\n<TITLE></TITLE>\\n</HEAD>\\n<BODY><div id='et-boc'
  class='et-boc'>\n			\n		<div class='et-l et-l--post'>\n			<div class='et_builder_
 inner_content et_pb_gutters3'>\n		<p>Join our very own AT Coordinator Jesse 
 Armijo and AT Specialist Maurice Alvarez for a webinar on “How to Gain Edu
 cation & Employment Independence with Assistive Technology” at the Imagine
  Conference hosted by the UNM Center for Development and Disability.</p>\n
 <p>You <strong>must</strong> <a href='https://reg.abcsignup.com/reg/event_
 page.aspx?ek=0033-0021-204d8f1e548a4168ab9540b714acd170&fbclid=IwAR0_p2eOu
 2COWkdYuuaWli-LgZonfPq8ub2R9TDJCfaeVllLUKH4Xg0PSls'>register</a> in advanc
 e for this webinar being held on May 6th\, 2021 at 3:30pm.</p>\n<p>Registr
 ation for this webinar is open through April 30th\, 2021 at 9:59pm.<br />
 \nSpanish translation is being offered for all Imagine Conference training
  sessions. Please contact UNM Center for Development and Disability for ac
 commodations.</p>\n\n		</div><!-- .et_builder_inner_content -->\n	</div><!-- 
 .et-l -->\n	\n			\n		</div><!-- #et-boc -->\n		</BODY></HTML>
END:VEVENT
END:VCALENDAR
