BEGIN:VCALENDAR
VERSION:2.0
PRODID:-//54.225.178.177//NONSGML kigkonsult.se iCalcreator 2.26.9//
CALSCALE:GREGORIAN
METHOD:PUBLISH
X-WR-CALNAME:NM Technology Assistance Program
X-WR-CALDESC:
X-FROM-URL:http://www.tap.gcd.state.nm.us
X-WR-TIMEZONE:America/Denver
BEGIN:VTIMEZONE
TZID:America/Denver
X-LIC-LOCATION:America/Denver
BEGIN:STANDARD
DTSTART:20201101T020000
TZOFFSETFROM:-0600
TZOFFSETTO:-0700
RDATE:20211107T020000
TZNAME:MST
END:STANDARD
BEGIN:DAYLIGHT
DTSTART:20210314T020000
TZOFFSETFROM:-0700
TZOFFSETTO:-0600
RDATE:20220313T020000
TZNAME:MDT
END:DAYLIGHT
END:VTIMEZONE
BEGIN:VEVENT
UID:ai1ec-2169@www.tap.gcd.state.nm.us
DTSTAMP:20210427T210725Z
CATEGORIES:
CONTACT:Tracy Agiovlasitis\; 505-841-4464\; tracy.agiovlasitis@state.nm.us
DESCRIPTION:<div id='et-boc' class='et-boc'>\n			\n		<div class='et-l et-l--post
 '>\n			<div class='et_builder_inner_content et_pb_gutters3'>\n		<p>This standar
 d quarterly meeting of The New Mexico Technology Assistance Program Adviso
 ry Council will be held via Zoom.</p>\n<p>To attend this meeting please co
 ntact Program Manager Tracy Agiovlasitis for the Zoom Meeting Room link at
  505-841-4464 or email at tracy.agiovlasitis@state.nm.us</p>\n<p> </p>\n<p
 ><a href='http://www.tap.gcd.state.nm.us/wp-content/uploads/2020/12/TAP-Co
 uncil-Agenda-12.14.20-DRAFT.docx'>TAP Council Agenda 12.14.20 DRAFT</a></p
 >\n\n		</div><!-- .et_builder_inner_content -->\n	</div><!-- .et-l -->\n	\n			\n		<
 /div><!-- #et-boc -->
DTSTART;TZID=America/Denver:20201214T130000
DTEND;TZID=America/Denver:20201214T150000
LOCATION:Zoom
SEQUENCE:0
SUMMARY:NMTAP Advisory Council Meeting
URL:http://www.tap.gcd.state.nm.us/event/nmtap-advisory-council-meeting-8/
X-COST-TYPE:free
END:VEVENT
END:VCALENDAR
