BEGIN:VCALENDAR
VERSION:2.0
PRODID:-//54.225.178.177//NONSGML kigkonsult.se iCalcreator 2.26.9//
CALSCALE:GREGORIAN
METHOD:PUBLISH
X-WR-CALNAME:NM Technology Assistance Program
X-WR-CALDESC:
X-FROM-URL:http://www.tap.gcd.state.nm.us
X-WR-TIMEZONE:America/Denver
BEGIN:VTIMEZONE
TZID:America/Denver
X-LIC-LOCATION:America/Denver
BEGIN:STANDARD
DTSTART:20201101T020000
TZOFFSETFROM:-0600
TZOFFSETTO:-0700
RDATE:20211107T020000
TZNAME:MST
END:STANDARD
BEGIN:DAYLIGHT
DTSTART:20210314T020000
TZOFFSETFROM:-0700
TZOFFSETTO:-0600
RDATE:20220313T020000
TZNAME:MDT
END:DAYLIGHT
END:VTIMEZONE
BEGIN:VEVENT
UID:ai1ec-2163@www.tap.gcd.state.nm.us
DTSTAMP:20210427T210702Z
CATEGORIES:
CONTACT:
DESCRIPTION:<div id='et-boc' class='et-boc'>\n			\n		<div class='et-l et-l--post
 '>\n			<div class='et_builder_inner_content et_pb_gutters3'>\n		<p>NMTAP will b
 e closed for holiday on Thursday\, November 26th and Friday\, November 27t
 h\, 2020.</p>\n\n		</div><!-- .et_builder_inner_content -->\n	</div><!-- .et-
 l -->\n	\n			\n		</div><!-- #et-boc -->
DTSTART;TZID=America/Denver:20201126T080000
DTEND;TZID=America/Denver:20201127T170000
SEQUENCE:0
SUMMARY:Closed for Holiday
URL:http://www.tap.gcd.state.nm.us/event/closed-for-holiday-20/
X-COST-TYPE:free
END:VEVENT
END:VCALENDAR
