BEGIN:VCALENDAR
VERSION:2.0
PRODID:-//54.225.178.177//NONSGML kigkonsult.se iCalcreator 2.26.9//
CALSCALE:GREGORIAN
METHOD:PUBLISH
X-WR-CALNAME:NM Technology Assistance Program
X-WR-CALDESC:
X-FROM-URL:http://www.tap.gcd.state.nm.us
X-WR-TIMEZONE:America/Denver
BEGIN:VTIMEZONE
TZID:America/Denver
X-LIC-LOCATION:America/Denver
BEGIN:STANDARD
DTSTART:20201101T020000
TZOFFSETFROM:-0600
TZOFFSETTO:-0700
RDATE:20211107T020000
TZNAME:MST
END:STANDARD
BEGIN:DAYLIGHT
DTSTART:20210314T020000
TZOFFSETFROM:-0700
TZOFFSETTO:-0600
RDATE:20220313T020000
TZNAME:MDT
END:DAYLIGHT
END:VTIMEZONE
BEGIN:VEVENT
UID:ai1ec-2153@www.tap.gcd.state.nm.us
DTSTAMP:20210427T210553Z
CATEGORIES:
CONTACT:Jesse Armijo\; 505-841-4450\; jesse.armijo@state.nm.us
DESCRIPTION:<div id='et-boc' class='et-boc'>\n			\n		<div class='et-l et-l--post
 '>\n			<div class='et_builder_inner_content et_pb_gutters3'>\n		<p>This Monday\
 , November 2<sup>nd</sup> from 1:00pm-2:30pm\, NMTAP will be offering a FR
 EE virtual training: “Assistive Technology for Speech Communication.” This
  training session will offer a look at simple to high tech speech generati
 ng devices and AAC Apps available for Apple products. Please note: this tr
 aining was previously offered earlier in the month and we have decided to 
 offer it again for more people to attend.</p>\n<p>Please use this link to 
 <a href='https://us02web.zoom.us/meeting/register/tZcvdeqrrDwuGtawSSNYAZhx
 gh20N6xDnKO4'>REGISTER</a>. After registering\, you will receive a confirm
 ation email containing information about joining the meeting.</p>\n<p>We w
 ill be offering Certificates of Participation for this training. An evalua
 tion will be REQUIRED to receive the Certificate of Participation.</p>\n\n
 		</div><!-- .et_builder_inner_content -->\n	</div><!-- .et-l -->\n	\n			\n		</div>
 <!-- #et-boc -->
DTSTART;TZID=America/Denver:20201102T130000
DTEND;TZID=America/Denver:20201102T143000
LOCATION:Zoom
SEQUENCE:0
SUMMARY:FREE Online Training: Speech Communication
URL:http://www.tap.gcd.state.nm.us/event/free-online-training-speech-commun
 ication/
X-COST-TYPE:free
END:VEVENT
END:VCALENDAR
