BEGIN:VCALENDAR
VERSION:2.0
PRODID:-//54.225.178.177//NONSGML kigkonsult.se iCalcreator 2.26.9//
CALSCALE:GREGORIAN
METHOD:PUBLISH
X-WR-CALNAME:NM Technology Assistance Program
X-WR-CALDESC:
X-FROM-URL:http://www.tap.gcd.state.nm.us
X-WR-TIMEZONE:America/Denver
BEGIN:VTIMEZONE
TZID:America/Denver
X-LIC-LOCATION:America/Denver
BEGIN:STANDARD
DTSTART:20201101T020000
TZOFFSETFROM:-0600
TZOFFSETTO:-0700
RDATE:20211107T020000
TZNAME:MST
END:STANDARD
BEGIN:DAYLIGHT
DTSTART:20210314T020000
TZOFFSETFROM:-0700
TZOFFSETTO:-0600
RDATE:20220313T020000
TZNAME:MDT
END:DAYLIGHT
END:VTIMEZONE
BEGIN:VEVENT
UID:ai1ec-2127@www.tap.gcd.state.nm.us
DTSTAMP:20210427T210615Z
CATEGORIES:
CONTACT:
DESCRIPTION:<div id='et-boc' class='et-boc'>\n			\n		<div class='et-l et-l--post
 '>\n			<div class='et_builder_inner_content et_pb_gutters3'>\n		<p>On Thursday\
 , November 5th from 6:00pm-8:00pm\, New Mexico AgrAbility Project will be 
 offering a <strong>FREE</strong> virtual training: <strong>“Hand Protectio
 n and Ergonomics for Agricultural Workers.”</strong> This training is desi
 gned for: Health Professionals\, Assistive Technologists\, Vocational Reha
 bilitation Counselors\, Students\, Farmers and Ranchers\, and Extension Pr
 ofessionals. OT CEUs will be offered.</p>\n<p>Registration for this event 
 is currently FULL. If space becomes available a registration link will be 
 provided.</p>\n<p>Please see the <a href='http://www.tap.gcd.state.nm.us/w
 p-content/uploads/2020/10/NMAP-Fall-Webinar.pdf'>event flyer</a> for more 
 information.</p>\n\n		</div><!-- .et_builder_inner_content -->\n	</div><!-- .
 et-l -->\n	\n			\n		</div><!-- #et-boc -->
DTSTART;TZID=America/Denver:20201105T180000
DTEND;TZID=America/Denver:20201105T200000
SEQUENCE:0
SUMMARY:FREE NM AgrAbility Webinar
URL:http://www.tap.gcd.state.nm.us/event/free-nm-agrability-webinar/
X-COST-TYPE:free
END:VEVENT
END:VCALENDAR
