BEGIN:VCALENDAR
VERSION:2.0
PRODID:-//54.225.178.177//NONSGML kigkonsult.se iCalcreator 2.26.9//
CALSCALE:GREGORIAN
METHOD:PUBLISH
X-WR-CALNAME:NM Technology Assistance Program
X-WR-CALDESC:
X-FROM-URL:http://www.tap.gcd.state.nm.us
X-WR-TIMEZONE:America/Denver
BEGIN:VTIMEZONE
TZID:America/Denver
X-LIC-LOCATION:America/Denver
BEGIN:STANDARD
DTSTART:20201101T020000
TZOFFSETFROM:-0600
TZOFFSETTO:-0700
RDATE:20211107T020000
TZNAME:MST
END:STANDARD
BEGIN:DAYLIGHT
DTSTART:20210314T020000
TZOFFSETFROM:-0700
TZOFFSETTO:-0600
RDATE:20220313T020000
TZNAME:MDT
END:DAYLIGHT
END:VTIMEZONE
BEGIN:VEVENT
UID:ai1ec-2121@www.tap.gcd.state.nm.us
DTSTAMP:20210427T210533Z
CATEGORIES:
CONTACT:
DESCRIPTION:NMTAP will be presenting at the 2020 Free Annual Brain Injury A
 wareness Conference on Saturday\, October 24\, at 10:15am on Assistive Tec
 hnology for Brain Injury.\nThe conference will take place online via Zoom 
 on October 24th\, 2020 beginning at 8am. To register go to Zoom.us/join an
 d enter the Meeting ID #: 969 9035 8988\nYou can read more about this conf
 erence\, including the schedule\, on their promotional flyer here or visit
  their website at: https://www.braininjurynm.org/2020-conference/\n 
DTSTART;TZID=America/Denver:20201024T101500
DTEND;TZID=America/Denver:20201024T110000
LOCATION:Zoom
SEQUENCE:0
SUMMARY:2020 Free Annual Brain Injury Awareness Conference
URL:http://www.tap.gcd.state.nm.us/event/2020-free-annual-brain-injury-awar
 eness-conference/
X-COST-TYPE:free
X-ALT-DESC;FMTTYPE=text/html:<!DOCTYPE HTML PUBLIC '-//W3C//DTD HTML 3.2//E
 N'>\\n<HTML>\\n<HEAD>\\n<TITLE></TITLE>\\n</HEAD>\\n<BODY><div id='et-boc'
  class='et-boc'>\n			\n		<div class='et-l et-l--post'>\n			<div class='et_builder_
 inner_content et_pb_gutters3'>\n		<p>NMTAP will be presenting at the 2020 Fr
 ee Annual Brain Injury Awareness Conference on Saturday\, October 24\, at 
 10:15am on Assistive Technology for Brain Injury.</p>\n<p>The conference w
 ill take place online via Zoom on October 24th\, 2020 beginning at 8am. To
  register go to <a href='https://www.zoom.us/join'>Zoom.us/join</a> and en
 ter the Meeting ID #: 969 9035 8988</p>\n<p>You can read more about this c
 onference\, including the schedule\, on their <a href='http://www.tap.gcd.
 state.nm.us/wp-content/uploads/2020/10/02a_2020_BIANM-Annual-Conference.pd
 f'>promotional flyer here</a> or visit their website at: <a href='https://
 www.braininjurynm.org/2020-conference/'>https://www.braininjurynm.org/2020
 -conference/</a></p>\n<p> </p>\n\n		</div><!-- .et_builder_inner_content -->
 \n	</div><!-- .et-l -->\n	\n			\n		</div><!-- #et-boc -->\n		</BODY></HTML>
END:VEVENT
END:VCALENDAR
