BEGIN:VCALENDAR
VERSION:2.0
PRODID:-//54.225.178.177//NONSGML kigkonsult.se iCalcreator 2.26.9//
CALSCALE:GREGORIAN
METHOD:PUBLISH
X-WR-CALNAME:NM Technology Assistance Program
X-WR-CALDESC:
X-FROM-URL:http://www.tap.gcd.state.nm.us
X-WR-TIMEZONE:America/Denver
BEGIN:VTIMEZONE
TZID:America/Denver
X-LIC-LOCATION:America/Denver
BEGIN:STANDARD
DTSTART:20201101T020000
TZOFFSETFROM:-0600
TZOFFSETTO:-0700
RDATE:20211107T020000
TZNAME:MST
END:STANDARD
BEGIN:DAYLIGHT
DTSTART:20210314T020000
TZOFFSETFROM:-0700
TZOFFSETTO:-0600
RDATE:20220313T020000
TZNAME:MDT
END:DAYLIGHT
END:VTIMEZONE
BEGIN:VEVENT
UID:ai1ec-2108@www.tap.gcd.state.nm.us
DTSTAMP:20210427T210444Z
CATEGORIES:
CONTACT:Jesse Armijo\; jesse.armijo@state.nm.us
DESCRIPTION:<div id='et-boc' class='et-boc'>\n			\n		<div class='et-l et-l--post
 '>\n			<div class='et_builder_inner_content et_pb_gutters3'>\n		<p>This Monday\
 , October 5<sup>th</sup> from 1:00pm-2:30pm\, NMTAP will be offering a FRE
 E virtual training: “Assistive Technology for Speech Communication.” This 
 training session will offer a look at simple/high tech speech generating d
 evices and AAC Apps available for Apple products.</p>\n<p>To attend this t
 raining please <a href='https://us02web.zoom.us/meeting/register/tZYsdeGor
 jMpGNEyMmXZOr-VQ2Rmix6frfkD'>click this link to register</a>. An evaluatio
 n will be required at the end of this training.</p>\n<p><a href='http://ww
 w.tap.gcd.state.nm.us/wp-content/uploads/2020/10/List-of-AT-for-Speech-Com
 munication.pdf'>List of AT Presented on for Speech Communication</a></p>\n
 <p> </p>\n\n		</div><!-- .et_builder_inner_content -->\n	</div><!-- .et-l -->
 \n	\n			\n		</div><!-- #et-boc -->
DTSTART;TZID=America/Denver:20201005T130000
DTEND;TZID=America/Denver:20201005T143000
LOCATION:Zoom
SEQUENCE:0
SUMMARY:FREE Online Training from NMTAP!
URL:http://www.tap.gcd.state.nm.us/event/free-online-training-from-nmtap-3/
X-COST-TYPE:free
END:VEVENT
END:VCALENDAR
