BEGIN:VCALENDAR
VERSION:2.0
PRODID:-//54.225.178.177//NONSGML kigkonsult.se iCalcreator 2.26.9//
CALSCALE:GREGORIAN
METHOD:PUBLISH
X-WR-CALNAME:NM Technology Assistance Program
X-WR-CALDESC:
X-FROM-URL:http://www.tap.gcd.state.nm.us
X-WR-TIMEZONE:America/Denver
BEGIN:VTIMEZONE
TZID:America/Denver
X-LIC-LOCATION:America/Denver
BEGIN:STANDARD
DTSTART:20201101T020000
TZOFFSETFROM:-0600
TZOFFSETTO:-0700
RDATE:20211107T020000
TZNAME:MST
END:STANDARD
BEGIN:DAYLIGHT
DTSTART:20210314T020000
TZOFFSETFROM:-0700
TZOFFSETTO:-0600
RDATE:20220313T020000
TZNAME:MDT
END:DAYLIGHT
END:VTIMEZONE
BEGIN:VEVENT
UID:ai1ec-2013@www.tap.gcd.state.nm.us
DTSTAMP:20210427T210424Z
CATEGORIES:
CONTACT:Tracy Agiovlasitis\; 505-841-4598\; tracy.agiovlasitis@state.nm.us
DESCRIPTION:The Standard quarterly meeting of The New Mexico Technology Ass
 istance Program Advisory Council will be held via Zoom.\nTo attend this me
 eting please contact Program Manager Tracy Agiovlasitis for the Zoom Meeti
 ng Room link at 505-841-4464 or email at tracy.agiovlasitis@state.nm.us\nT
 AP Council Agenda 9.14.20 DRAFT
DTSTART;TZID=America/Denver:20200914T130000
DTEND;TZID=America/Denver:20200914T143000
LOCATION:Online via Zoom
SEQUENCE:0
SUMMARY:NMTAP Advisory Council Meeting
URL:http://www.tap.gcd.state.nm.us/event/nmtap-advisory-council-meeting-7/
X-COST-TYPE:free
X-ALT-DESC;FMTTYPE=text/html:<!DOCTYPE HTML PUBLIC '-//W3C//DTD HTML 3.2//E
 N'>\\n<HTML>\\n<HEAD>\\n<TITLE></TITLE>\\n</HEAD>\\n<BODY><div id='et-boc'
  class='et-boc'>\n			\n		<div class='et-l et-l--post'>\n			<div class='et_builder_
 inner_content et_pb_gutters3'>\n		<p>The Standard quarterly meeting of The N
 ew Mexico Technology Assistance Program Advisory Council will be held via 
 Zoom.</p>\n<p>To attend this meeting please contact Program Manager Tracy 
 Agiovlasitis for the Zoom Meeting Room link at 505-841-4464 or email at tr
 acy.agiovlasitis@state.nm.us</p>\n<p><a href='http://www.tap.gcd.state.nm.
 us/wp-content/uploads/2020/09/TAP-Council-Agenda-9.14.20-DRAFT.docx'>TAP C
 ouncil Agenda 9.14.20 DRAFT</a></p>\n\n		</div><!-- .et_builder_inner_conten
 t -->\n	</div><!-- .et-l -->\n	\n			\n		</div><!-- #et-boc -->\n		</BODY></HTML>
END:VEVENT
END:VCALENDAR
