BEGIN:VCALENDAR
VERSION:2.0
PRODID:-//54.225.178.177//NONSGML kigkonsult.se iCalcreator 2.26.9//
CALSCALE:GREGORIAN
METHOD:PUBLISH
X-WR-CALNAME:NM Technology Assistance Program
X-WR-CALDESC:
X-FROM-URL:http://www.tap.gcd.state.nm.us
X-WR-TIMEZONE:America/Denver
BEGIN:VTIMEZONE
TZID:America/Denver
X-LIC-LOCATION:America/Denver
BEGIN:STANDARD
DTSTART:20211107T020000
TZOFFSETFROM:-0600
TZOFFSETTO:-0700
RDATE:20221106T020000
TZNAME:MST
END:STANDARD
BEGIN:DAYLIGHT
DTSTART:20210314T020000
TZOFFSETFROM:-0700
TZOFFSETTO:-0600
RDATE:20220313T020000,20230312T020000
TZNAME:MDT
END:DAYLIGHT
END:VTIMEZONE
BEGIN:VEVENT
UID:ai1ec-1978@www.tap.gcd.state.nm.us
DTSTAMP:20210914T163238Z
CATEGORIES:
CONTACT:Jesse Armijo\; 505-841-4450\; jesse.armijo@state.nm.us
DESCRIPTION:This Monday\, August 10th from 1:00pm-2:30pm\, NMTAP will be of
 fering a FREE virtual training: “Assistive Technology Solutions for Online
  Schooling.” This was previously offered last week and due to the high req
 uest\, we’ve decided to offer this training again. This training session w
 ill offer a look at some AT that will be most beneficial to the student wh
 ile learning from a distance.\nList of AT Presented On for Online Schoolin
 g\nPlease REGISTER at the link below. An evaluation will also be REQUIRED 
 at the end of this training. Please let us know if you have any questions.
  We hope to see you then!\nRegister in advance for this meeting: https://u
 s02web.zoom.us/meeting/register/tZEvfu2rrz8vGdOokzfg1Z6nv79HB3Nnawzc
DTSTART;TZID=America/Denver:20200810T130000
DTEND;TZID=America/Denver:20200810T143000
LOCATION:Online via Zoom
SEQUENCE:0
SUMMARY:FREE Online Training from NMTAP!
URL:http://www.tap.gcd.state.nm.us/event/free-online-training-from-nmtap-2/
X-COST-TYPE:free
X-ALT-DESC;FMTTYPE=text/html:<!DOCTYPE HTML PUBLIC '-//W3C//DTD HTML 3.2//E
 N'>\\n<HTML>\\n<HEAD>\\n<TITLE></TITLE>\\n</HEAD>\\n<BODY><div id='et-boc'
  class='et-boc'>\n			\n		<div class='et-l et-l--post'>\n			<div class='et_builder_
 inner_content et_pb_gutters3'>\n		<p>This Monday\, August 10<sup>th</sup> fr
 om 1:00pm-2:30pm\, NMTAP will be offering a FREE virtual training: “Assist
 ive Technology Solutions for Online Schooling.” This was previously offere
 d last week and due to the high request\, we’ve decided to offer this trai
 ning again. This training session will offer a look at some AT that will b
 e most beneficial to the student while learning from a distance.</p>\n<p><
 a href='http://www.tap.gcd.state.nm.us/wp-content/uploads/2020/07/List-of-
 AT-Presented-On-for-Online-Learning.pdf'>List of AT Presented On for Onlin
 e Schooling</a></p>\n<p>Please REGISTER at the link below. An evaluation w
 ill also be REQUIRED at the end of this training. Please let us know if yo
 u have any questions. We hope to see you then!</p>\n<p>Register in advance
  for this meeting: <a href='https://us02web.zoom.us/meeting/register/tZEvf
 u2rrz8vGdOokzfg1Z6nv79HB3Nnawzc'>https://us02web.zoom.us/meeting/register/
 tZEvfu2rrz8vGdOokzfg1Z6nv79HB3Nnawzc</a></p>\n\n		</div>\n	</div>\n	\n			\n		</div>
 \n		</BODY></HTML>
END:VEVENT
END:VCALENDAR
