BEGIN:VCALENDAR
VERSION:2.0
PRODID:-//54.225.178.177//NONSGML kigkonsult.se iCalcreator 2.26.9//
CALSCALE:GREGORIAN
METHOD:PUBLISH
X-WR-CALNAME:NM Technology Assistance Program
X-WR-CALDESC:
X-FROM-URL:http://www.tap.gcd.state.nm.us
X-WR-TIMEZONE:America/Denver
BEGIN:VTIMEZONE
TZID:America/Denver
X-LIC-LOCATION:America/Denver
BEGIN:STANDARD
DTSTART:20211107T020000
TZOFFSETFROM:-0600
TZOFFSETTO:-0700
RDATE:20221106T020000
TZNAME:MST
END:STANDARD
BEGIN:DAYLIGHT
DTSTART:20210314T020000
TZOFFSETFROM:-0700
TZOFFSETTO:-0600
RDATE:20220313T020000,20230312T020000
TZNAME:MDT
END:DAYLIGHT
END:VTIMEZONE
BEGIN:VEVENT
UID:ai1ec-1948@www.tap.gcd.state.nm.us
DTSTAMP:20210914T163211Z
CATEGORIES:
CONTACT:Jesse Armijo\; 505-841-4450\; jesse.armijo@state.nm.us
DESCRIPTION:This Tuesday\, July 28th at 1:00pm\, NMTAP Will be offering a F
 REE virtual training: “Assistive Technology Solutions for Online Schooling
 ” This training session will offer a look at some AT that will be most ben
 eficial to the student while learning from a distance. Join our Zoom sessi
 on at 1:00pm at the link below. An evaluation will be REQUIRED at the end 
 of the training. Passwords for this Zoom Meeting will be posted the mornin
 g of the presentation.\nHandout of AT Presented On for Online Learning\nTo
 pic: Assistive Technology Solutions for Online Schooling\nTime: Jul 28\, 2
 020 01:00 PM Mountain Time (US and Canada)\nJoin Zoom Meeting\nhttps://us0
 2web.zoom.us/j/7257466968?pwd=bzcvN2NnV1VhekRWdC9NSmt1OHlMQT09\nMeeting ID
 : 725 746 6968\nOne tap mobile\n+12532158782\,\,7257466968#\,\,\,\,\,\,0#\
 ,\,854022# US (Tacoma)\n+13017158592\,\,7257466968#\,\,\,\,\,\,0#\,\,85402
 2# US (Germantown)\nDial by your location\n+1 253 215 8782 US (Tacoma)\n+1
  301 715 8592 US (Germantown)\n+1 312 626 6799 US (Chicago)\n+1 346 248 77
 99 US (Houston)\n+1 669 900 6833 US (San Jose)\n+1 929 205 6099 US (New Yo
 rk)\nMeeting ID: 725 746 6968\n \nFind your local number: https://us02web.
 zoom.us/u/kc8EtvsQNX
DTSTART;TZID=America/Denver:20200728T130000
DTEND;TZID=America/Denver:20200728T143000
LOCATION:Online
SEQUENCE:0
SUMMARY:FREE Online Training from NMTAP!
URL:http://www.tap.gcd.state.nm.us/event/free-online-training-from-nmtap/
X-COST-TYPE:free
X-ALT-DESC;FMTTYPE=text/html:<!DOCTYPE HTML PUBLIC '-//W3C//DTD HTML 3.2//E
 N'>\\n<HTML>\\n<HEAD>\\n<TITLE></TITLE>\\n</HEAD>\\n<BODY><div id='et-boc'
  class='et-boc'>\n			\n		<div class='et-l et-l--post'>\n			<div class='et_builder_
 inner_content et_pb_gutters3'>\n		<p>This Tuesday\, July 28<sup>th</sup> at 
 1:00pm\, NMTAP Will be offering a FREE virtual training: “Assistive Techno
 logy Solutions for Online Schooling” This training session will offer a lo
 ok at some AT that will be most beneficial to the student while learning f
 rom a distance. Join our Zoom session at 1:00pm at the link below. An eval
 uation will be REQUIRED at the end of the training. Passwords for this Zoo
 m Meeting will be posted the morning of the presentation.</p>\n<p><a href=
 'http://www.tap.gcd.state.nm.us/wp-content/uploads/2020/07/List-of-AT-Pres
 ented-On-for-Online-Learning.pdf'>Handout of AT Presented On for Online Le
 arning</a></p>\n<p>Topic: Assistive Technology Solutions for Online School
 ing<br />\nTime: Jul 28\, 2020 01:00 PM Mountain Time (US and Canada)</p>
 \n<p>Join Zoom Meeting<br />\n<a href='https://us02web.zoom.us/j/725746696
 8?pwd=bzcvN2NnV1VhekRWdC9NSmt1OHlMQT09'>https://us02web.zoom.us/j/72574669
 68?pwd=bzcvN2NnV1VhekRWdC9NSmt1OHlMQT09</a></p>\n<p>Meeting ID: 725 746 69
 68</p>\n<p>One tap mobile<br />\n+12532158782\,\,7257466968#\,\,\,\,\,\,0#
 \,\,854022# US (Tacoma)<br />\n+13017158592\,\,7257466968#\,\,\,\,\,\,0#\,
 \,854022# US (Germantown)</p>\n<p>Dial by your location<br />\n+1 253 215 
 8782 US (Tacoma)<br />\n+1 301 715 8592 US (Germantown)<br />\n+1 312 626 
 6799 US (Chicago)<br />\n+1 346 248 7799 US (Houston)<br />\n+1 669 900 68
 33 US (San Jose)<br />\n+1 929 205 6099 US (New York)</p>\n<p>Meeting ID: 
 725 746 6968</p>\n<p> </p>\n<p>Find your local number: <a href='https://us
 02web.zoom.us/u/kc8EtvsQNX'>https://us02web.zoom.us/u/kc8EtvsQNX</a></p>\n
 \n		</div>\n	</div>\n	\n			\n		</div>\n		</BODY></HTML>
END:VEVENT
END:VCALENDAR
