BEGIN:VCALENDAR
VERSION:2.0
PRODID:-//54.225.178.177//NONSGML kigkonsult.se iCalcreator 2.26.9//
CALSCALE:GREGORIAN
METHOD:PUBLISH
X-WR-CALNAME:NM Technology Assistance Program
X-WR-CALDESC:
X-FROM-URL:http://www.tap.gcd.state.nm.us
X-WR-TIMEZONE:America/Denver
BEGIN:VTIMEZONE
TZID:America/Denver
X-LIC-LOCATION:America/Denver
BEGIN:STANDARD
DTSTART:20211107T020000
TZOFFSETFROM:-0600
TZOFFSETTO:-0700
RDATE:20221106T020000
TZNAME:MST
END:STANDARD
BEGIN:DAYLIGHT
DTSTART:20210314T020000
TZOFFSETFROM:-0700
TZOFFSETTO:-0600
RDATE:20220313T020000,20230312T020000
TZNAME:MDT
END:DAYLIGHT
END:VTIMEZONE
BEGIN:VEVENT
UID:ai1ec-1913@www.tap.gcd.state.nm.us
DTSTAMP:20210914T163145Z
CATEGORIES:
CONTACT:https://reg.abcsignup.com/reg/event_page.aspx?ek=0033-0021-e6117a3b
 1f5a4a99804207fbe215b834
DESCRIPTION:NMTAP will be presenting at the UNM Center for Development and 
 Disabilities Partners for Employment Interactive Training. Our session wil
 l highlight assistive technology devices that can be used by individuals w
 ith disabilities who are entering the workforce. Devices demonstrated will
  include everything from apps to software that can assist with computer us
 e.\n \nClick the link to register for this event.
DTSTART;TZID=America/Denver:20200623T130000
DTEND;TZID=America/Denver:20200623T140000
LOCATION:Online
SEQUENCE:0
SUMMARY:UNM CDD Partners For Employment – Reaching New Heights Interactive 
 Training
URL:http://www.tap.gcd.state.nm.us/event/unm-cdd-partners-for-employment-re
 aching-new-heights-interactive-training/
X-COST-TYPE:free
X-ALT-DESC;FMTTYPE=text/html:<!DOCTYPE HTML PUBLIC '-//W3C//DTD HTML 3.2//E
 N'>\\n<HTML>\\n<HEAD>\\n<TITLE></TITLE>\\n</HEAD>\\n<BODY><div id='et-boc'
  class='et-boc'>\n			\n		<div class='et-l et-l--post'>\n			<div class='et_builder_
 inner_content et_pb_gutters3'>\n		<p>NMTAP will be presenting at the UNM Cen
 ter for Development and Disabilities Partners for Employment Interactive T
 raining. Our session will highlight assistive technology devices that can 
 be used by individuals with disabilities who are entering the workforce. D
 evices demonstrated will include everything from apps to software that can
  assist with computer use.</p>\n<p> </p>\n<p>Click the link to <a href='ht
 tps://reg.abcsignup.com/reg/event_page.aspx?ek=0033-0021-e6117a3b1f5a4a998
 04207fbe215b834'>register for this event</a>.</p>\n\n		</div>\n	</div>\n	\n			\n		<
 /div>\n		</BODY></HTML>
END:VEVENT
END:VCALENDAR
