BEGIN:VCALENDAR
VERSION:2.0
PRODID:-//54.225.178.177//NONSGML kigkonsult.se iCalcreator 2.26.9//
CALSCALE:GREGORIAN
METHOD:PUBLISH
X-WR-CALNAME:NM Technology Assistance Program
X-WR-CALDESC:
X-FROM-URL:http://www.tap.gcd.state.nm.us
X-WR-TIMEZONE:America/Denver
BEGIN:VTIMEZONE
TZID:America/Denver
X-LIC-LOCATION:America/Denver
BEGIN:STANDARD
DTSTART:20211107T020000
TZOFFSETFROM:-0600
TZOFFSETTO:-0700
RDATE:20221106T020000
TZNAME:MST
END:STANDARD
BEGIN:DAYLIGHT
DTSTART:20210314T020000
TZOFFSETFROM:-0700
TZOFFSETTO:-0600
RDATE:20220313T020000,20230312T020000
TZNAME:MDT
END:DAYLIGHT
END:VTIMEZONE
BEGIN:VEVENT
UID:ai1ec-1912@www.tap.gcd.state.nm.us
DTSTAMP:20210914T163121Z
CATEGORIES:
CONTACT:Tracy Agiovlasitis\; 505-841-4464\; tracy.agiovlasitis@state.nm.us
DESCRIPTION:The Standard quarterly meeting of The New Mexico Technology Ass
 istance Program Advisory Council will be held via Zoom.\nTo join this Zoom
  Meeting by computer or mobile device click the link: Join Zoom Meeting\nT
 o join this Zoom Meeting by telephone please dial the number by your locat
 ion:\n+1 253 215 8782 US (Tacoma)\n+1 346 248 7799 US (Houston)\nZoom Meet
 ing password will be posted on our Advisory Council page the morning of th
 e meeting.\n 
DTSTART;TZID=America/Denver:20200622T130000
DTEND;TZID=America/Denver:20200622T140000
LOCATION:Online Zoom Meeting
SEQUENCE:0
SUMMARY:NMTAP Advisory Council Meeting
URL:http://www.tap.gcd.state.nm.us/event/nmtap-advisory-council-meeting-6/
X-COST-TYPE:free
X-ALT-DESC;FMTTYPE=text/html:<!DOCTYPE HTML PUBLIC '-//W3C//DTD HTML 3.2//E
 N'>\\n<HTML>\\n<HEAD>\\n<TITLE></TITLE>\\n</HEAD>\\n<BODY><div id='et-boc'
  class='et-boc'>\n			\n		<div class='et-l et-l--post'>\n			<div class='et_builder_
 inner_content et_pb_gutters3'>\n		<p>The Standard quarterly meeting of The N
 ew Mexico Technology Assistance Program Advisory Council will be held via 
 Zoom.</p>\n<p>To join this Zoom Meeting by computer or mobile device click
  the link: <a href='https://us02web.zoom.us/j/7257466968?pwd=bzcvN2NnV1Vhe
 kRWdC9NSmt1OHlMQT09'>Join Zoom Meeting</a></p>\n<p>To join this Zoom Meeti
 ng by telephone please dial the number by your location:<br />\n+1 253 215
  8782 US (Tacoma)<br />\n+1 346 248 7799 US (Houston)</p>\n<p>Zoom Meeting
  password will be posted on our Advisory Council page the morning of the m
 eeting.</p>\n<p> </p>\n\n		</div>\n	</div>\n	\n			\n		</div>\n		</BODY></HTML>
END:VEVENT
END:VCALENDAR
