BEGIN:VCALENDAR
VERSION:2.0
PRODID:-//54.225.178.177//NONSGML kigkonsult.se iCalcreator 2.26.9//
CALSCALE:GREGORIAN
METHOD:PUBLISH
X-WR-CALNAME:NM Technology Assistance Program
X-WR-CALDESC:
X-FROM-URL:http://www.tap.gcd.state.nm.us
X-WR-TIMEZONE:America/Denver
BEGIN:VTIMEZONE
TZID:America/Denver
X-LIC-LOCATION:America/Denver
BEGIN:STANDARD
DTSTART:20211107T020000
TZOFFSETFROM:-0600
TZOFFSETTO:-0700
RDATE:20221106T020000
TZNAME:MST
END:STANDARD
BEGIN:DAYLIGHT
DTSTART:20210314T020000
TZOFFSETFROM:-0700
TZOFFSETTO:-0600
RDATE:20220313T020000,20230312T020000
TZNAME:MDT
END:DAYLIGHT
END:VTIMEZONE
BEGIN:VEVENT
UID:ai1ec-1804@www.tap.gcd.state.nm.us
DTSTAMP:20210914T162940Z
CATEGORIES:
CONTACT:http://tradition.nmda.nmsu.edu/nmofc/
DESCRIPTION:AgrAbility will have an information table at the 2020 New Mexic
 o Organic Farming Conference on Friday February 21st\, 2020.\n \nProgram f
 or the 2020 New Mexico Organic Farming Conference.\n\n		\n	\n	\n			\n		\n		Tickets: h
 ttps://nmofc2020.regfox.com/2020-new-mexico-organic-farming-conference.
DTSTART;TZID=America/Denver:20200221T070000
DTEND;TZID=America/Denver:20200221T190000
LOCATION:Hotel Albuquerque at Old Town @ 800 Rio Grande Blvd NW\, Albuquerq
 ue\, NM 87104
SEQUENCE:0
SUMMARY:2020 New Mexico Organic Farming Conference
URL:http://www.tap.gcd.state.nm.us/event/2020-new-mexico-organic-farming-co
 nference/
X-COST-TYPE:external
X-ALT-DESC;FMTTYPE=text/html:<!DOCTYPE HTML PUBLIC '-//W3C//DTD HTML 3.2//E
 N'>\\n<HTML>\\n<HEAD>\\n<TITLE></TITLE>\\n</HEAD>\\n<BODY><div id='et-boc'
  class='et-boc'>\n			\n		<div class='et-l et-l--post'>\n			<div class='et_builder_
 inner_content et_pb_gutters3'>\n		<p>AgrAbility will have an information tab
 le at the 2020 New Mexico Organic Farming Conference on Friday February 21
 st\, 2020.</p>\n<p> </p>\n<p><a href='http://www.tap.gcd.state.nm.us/wp-co
 ntent/uploads/2020/02/NMOFC-2020Final.pdf'>Program for the 2020 New Mexico
  Organic Farming Conference</a>.</p>\n\n		</div>\n	</div>\n	\n			\n		</div>\n		<p>Tic
 kets: <a class='ai1ec-ticket-url-exported' href='https://nmofc2020.regfox.
 com/2020-new-mexico-organic-farming-conference'>https://nmofc2020.regfox.c
 om/2020-new-mexico-organic-farming-conference</a>.</p></BODY></HTML>
X-COST:$100-$150
X-TICKETS-URL:https://nmofc2020.regfox.com/2020-new-mexico-organic-farming-
 conference
END:VEVENT
END:VCALENDAR
