BEGIN:VCALENDAR
VERSION:2.0
PRODID:-//54.225.178.177//NONSGML kigkonsult.se iCalcreator 2.26.9//
CALSCALE:GREGORIAN
METHOD:PUBLISH
X-WR-CALNAME:NM Technology Assistance Program
X-WR-CALDESC:
X-FROM-URL:http://www.tap.gcd.state.nm.us
X-WR-TIMEZONE:America/Denver
BEGIN:VTIMEZONE
TZID:America/Denver
X-LIC-LOCATION:America/Denver
BEGIN:STANDARD
DTSTART:20211107T020000
TZOFFSETFROM:-0600
TZOFFSETTO:-0700
RDATE:20221106T020000
TZNAME:MST
END:STANDARD
BEGIN:DAYLIGHT
DTSTART:20210314T020000
TZOFFSETFROM:-0700
TZOFFSETTO:-0600
RDATE:20220313T020000,20230312T020000
TZNAME:MDT
END:DAYLIGHT
END:VTIMEZONE
BEGIN:VEVENT
UID:ai1ec-1803@www.tap.gcd.state.nm.us
DTSTAMP:20210914T163056Z
CATEGORIES:
CONTACT:Jesse Armijo\; 505-841-4450\; jesse.armijo@state.nm.us
DESCRIPTION:Please join us for a FREE hands-on training of assistive techno
 logy. Topics will include: Speech Communication\, Apps for Learning Disabi
 lity (Apple and Android)\, and AT For Hearing and Vision.\n \nHOW-AT Españ
 ola Flyer\nHOW-AT Española Apps List
DTSTART;TZID=America/Denver:20200310T090000
DTEND;TZID=America/Denver:20200310T123000
LOCATION:Northern New Mexico College (Joseph Montoya Building) @ 921 N. Pas
 eo de Oñate Española\, NM 87532
SEQUENCE:0
SUMMARY:Hands-On Workshop of Assistive Technology: Española
URL:http://www.tap.gcd.state.nm.us/event/hands-on-workshop-of-assistive-tec
 hnology-espanola/
X-COST-TYPE:free
X-ALT-DESC;FMTTYPE=text/html:<!DOCTYPE HTML PUBLIC '-//W3C//DTD HTML 3.2//E
 N'>\\n<HTML>\\n<HEAD>\\n<TITLE></TITLE>\\n</HEAD>\\n<BODY><div id='et-boc'
  class='et-boc'>\n			\n		<div class='et-l et-l--post'>\n			<div class='et_builder_
 inner_content et_pb_gutters3'><div class='et_pb_section et_pb_section_0 et
 _section_regular' >\n				\n				\n				\n				\n					<div class='et_pb_row et_pb_row_0'>\n				<div cla
 ss='et_pb_column et_pb_column_4_4 et_pb_column_0  et_pb_css_mix_blend_mode
 _passthrough et-last-child'>\n				\n				\n				<div class='et_pb_module et_pb_text et_p
 b_text_0  et_pb_text_align_left et_pb_bg_layout_light'>\n				\n				\n				<div class='e
 t_pb_text_inner'><p>Please join us for a FREE hands-on training of assisti
 ve technology. Topics will include: Speech Communication\, Apps for Learni
 ng Disability (Apple and Android)\, and AT For Hearing and Vision.</p>\n<p
 > </p>\n<p><a href='http://www.tap.gcd.state.nm.us/wp-content/uploads/2020
 /02/HOW-AT-Espanola-Flyer.pdf'>HOW-AT Española Flyer</a></p>\n<p><a href='
 http://www.tap.gcd.state.nm.us/wp-content/uploads/2020/03/HOW-AT-Espanola-
 Apps-List.pdf'>HOW-AT Española Apps List</a></p></div>\n			</div>\n			</div>\n				\n
 				\n			</div>\n				\n				\n			</div>		</div>\n	</div>\n	\n			\n		</div>\n		</BODY></HTML>
END:VEVENT
END:VCALENDAR
