BEGIN:VCALENDAR
VERSION:2.0
PRODID:-//54.225.178.177//NONSGML kigkonsult.se iCalcreator 2.26.9//
CALSCALE:GREGORIAN
METHOD:PUBLISH
X-WR-CALNAME:NM Technology Assistance Program
X-WR-CALDESC:
X-FROM-URL:http://www.tap.gcd.state.nm.us
X-WR-TIMEZONE:America/Denver
BEGIN:VTIMEZONE
TZID:America/Denver
X-LIC-LOCATION:America/Denver
BEGIN:STANDARD
DTSTART:20211107T020000
TZOFFSETFROM:-0600
TZOFFSETTO:-0700
RDATE:20221106T020000
TZNAME:MST
END:STANDARD
BEGIN:DAYLIGHT
DTSTART:20210314T020000
TZOFFSETFROM:-0700
TZOFFSETTO:-0600
RDATE:20220313T020000,20230312T020000
TZNAME:MDT
END:DAYLIGHT
END:VTIMEZONE
BEGIN:VEVENT
UID:ai1ec-1761@www.tap.gcd.state.nm.us
DTSTAMP:20210914T162826Z
CATEGORIES:
CONTACT:
DESCRIPTION:NMTAP and AgrAbility will be participating in Disability Rights
  Awareness Day in Santa Fe held at the New Mexico State Capitol (Roundhous
 e).
DTSTART;TZID=America/Denver:20200123T080000
DTEND;TZID=America/Denver:20200123T160000
LOCATION:New Mexico State Capitol (Roundhouse) @ 490 Old Santa Fe Trail\, S
 anta Fe\, NM 87501
SEQUENCE:0
SUMMARY:Disability Rights Awareness Day
URL:http://www.tap.gcd.state.nm.us/event/disability-rights-awareness-day-2/
X-COST-TYPE:free
X-ALT-DESC;FMTTYPE=text/html:<!DOCTYPE HTML PUBLIC '-//W3C//DTD HTML 3.2//E
 N'>\\n<HTML>\\n<HEAD>\\n<TITLE></TITLE>\\n</HEAD>\\n<BODY><div id='et-boc'
  class='et-boc'>\n			\n		<div class='et-l et-l--post'>\n			<div class='et_builder_
 inner_content et_pb_gutters3'>\n		<p>NMTAP and AgrAbility will be participat
 ing in Disability Rights Awareness Day in Santa Fe held at the New Mexico 
 State Capitol (Roundhouse).</p>\n\n		</div>\n	</div>\n	\n			\n		</div>\n		</BODY></HT
 ML>
END:VEVENT
END:VCALENDAR
