BEGIN:VCALENDAR
VERSION:2.0
PRODID:-//54.225.178.177//NONSGML kigkonsult.se iCalcreator 2.26.9//
CALSCALE:GREGORIAN
METHOD:PUBLISH
X-WR-CALNAME:NM Technology Assistance Program
X-WR-CALDESC:
X-FROM-URL:http://www.tap.gcd.state.nm.us
X-WR-TIMEZONE:America/Denver
BEGIN:VTIMEZONE
TZID:America/Denver
X-LIC-LOCATION:America/Denver
BEGIN:STANDARD
DTSTART:20211107T020000
TZOFFSETFROM:-0600
TZOFFSETTO:-0700
RDATE:20221106T020000
TZNAME:MST
END:STANDARD
BEGIN:DAYLIGHT
DTSTART:20210314T020000
TZOFFSETFROM:-0700
TZOFFSETTO:-0600
RDATE:20220313T020000,20230312T020000
TZNAME:MDT
END:DAYLIGHT
END:VTIMEZONE
BEGIN:VEVENT
UID:ai1ec-1753@www.tap.gcd.state.nm.us
DTSTAMP:20210914T162851Z
CATEGORIES:
CONTACT:Kathryn Murphy\; kathryn.murphy@aps.edu
DESCRIPTION:NMTAP will have an information table at the APS Transition Fair
  – Learning Zone 2 held at Atrisco Heritage Academy High.\n \n \nPlease se
 e the APS Spring 2020 Transition Fair Series Flyer for more information.
DTSTART;TZID=America/Denver:20200130T133000
DTEND;TZID=America/Denver:20200130T170000
LOCATION:Atrisco Heritage Academy High @ 10800 Dennis Chavez Blvd\, Albuque
 rque\, NM 87121
SEQUENCE:0
SUMMARY:APS Transition Fair – Learning Zone 2
URL:http://www.tap.gcd.state.nm.us/event/aps-transition-fair-learning-zone-
 2/
X-COST-TYPE:free
X-ALT-DESC;FMTTYPE=text/html:<!DOCTYPE HTML PUBLIC '-//W3C//DTD HTML 3.2//E
 N'>\\n<HTML>\\n<HEAD>\\n<TITLE></TITLE>\\n</HEAD>\\n<BODY><div id='et-boc'
  class='et-boc'>\n			\n		<div class='et-l et-l--post'>\n			<div class='et_builder_
 inner_content et_pb_gutters3'>\n		<p>NMTAP will have an information table at
  the APS Transition Fair – Learning Zone 2 held at Atrisco Heritage Academ
 y High.</p>\n<p> </p>\n<p> </p>\n<p>Please see the <a href='http://www.tap
 .gcd.state.nm.us/wp-content/uploads/2020/01/APS-Spring-2020-Transition-Fai
 r-Series-Flyer.pdf'>APS Spring 2020 Transition Fair Series Flyer</a> for m
 ore information.</p>\n\n		</div>\n	</div>\n	\n			\n		</div>\n		</BODY></HTML>
END:VEVENT
END:VCALENDAR
