BEGIN:VCALENDAR
VERSION:2.0
PRODID:-//54.225.178.177//NONSGML kigkonsult.se iCalcreator 2.26.9//
CALSCALE:GREGORIAN
METHOD:PUBLISH
X-WR-CALNAME:NM Technology Assistance Program
X-WR-CALDESC:
X-FROM-URL:http://www.tap.gcd.state.nm.us
X-WR-TIMEZONE:America/Denver
BEGIN:VTIMEZONE
TZID:America/Denver
X-LIC-LOCATION:America/Denver
BEGIN:STANDARD
DTSTART:20211107T020000
TZOFFSETFROM:-0600
TZOFFSETTO:-0700
RDATE:20221106T020000
TZNAME:MST
END:STANDARD
BEGIN:DAYLIGHT
DTSTART:20210314T020000
TZOFFSETFROM:-0700
TZOFFSETTO:-0600
RDATE:20220313T020000,20230312T020000
TZNAME:MDT
END:DAYLIGHT
END:VTIMEZONE
BEGIN:VEVENT
UID:ai1ec-1715@www.tap.gcd.state.nm.us
DTSTAMP:20210914T162708Z
CATEGORIES:
CONTACT:
DESCRIPTION:NMTAP will be closed for the Christmas Holiday on December 25\,
  2019.
DTSTART;TZID=America/Denver:20191225T080000
DTEND;TZID=America/Denver:20191225T170000
SEQUENCE:0
SUMMARY:Closed for Holiday
URL:http://www.tap.gcd.state.nm.us/event/closed-for-holiday-13/
X-COST-TYPE:free
X-ALT-DESC;FMTTYPE=text/html:<!DOCTYPE HTML PUBLIC '-//W3C//DTD HTML 3.2//E
 N'>\\n<HTML>\\n<HEAD>\\n<TITLE></TITLE>\\n</HEAD>\\n<BODY><div id='et-boc'
  class='et-boc'>\n			\n		<div class='et-l et-l--post'>\n			<div class='et_builder_
 inner_content et_pb_gutters3'>\n		<p>NMTAP will be closed for the Christmas 
 Holiday on December 25\, 2019.</p>\n\n		</div>\n	</div>\n	\n			\n		</div>\n		</BODY><
 /HTML>
END:VEVENT
END:VCALENDAR
