BEGIN:VCALENDAR
VERSION:2.0
PRODID:-//54.225.178.177//NONSGML kigkonsult.se iCalcreator 2.26.9//
CALSCALE:GREGORIAN
METHOD:PUBLISH
X-WR-CALNAME:NM Technology Assistance Program
X-WR-CALDESC:
X-FROM-URL:http://www.tap.gcd.state.nm.us
X-WR-TIMEZONE:America/Denver
BEGIN:VTIMEZONE
TZID:America/Denver
X-LIC-LOCATION:America/Denver
BEGIN:STANDARD
DTSTART:20211107T020000
TZOFFSETFROM:-0600
TZOFFSETTO:-0700
RDATE:20221106T020000
TZNAME:MST
END:STANDARD
BEGIN:DAYLIGHT
DTSTART:20210314T020000
TZOFFSETFROM:-0700
TZOFFSETTO:-0600
RDATE:20220313T020000,20230312T020000
TZNAME:MDT
END:DAYLIGHT
END:VTIMEZONE
BEGIN:VEVENT
UID:ai1ec-1644@www.tap.gcd.state.nm.us
DTSTAMP:20210914T162557Z
CATEGORIES:
CONTACT:
DESCRIPTION:NMTAP and AgrAbility will have an information table at the 2019
  Student-Veteran Resource Fair.\n \n \n2019 Student-Veteran Resource Fair 
 Flyer
DTSTART;TZID=America/Denver:20191115T100000
DTEND;TZID=America/Denver:20191115T140000
LOCATION:American Legion Post 13 @ 1201 Legion Road NE\, Albuquerque\, NM
SEQUENCE:0
SUMMARY:2019 Student-Veterans Resource Fair
URL:http://www.tap.gcd.state.nm.us/event/2019-student-veterans-resource-fai
 r/
X-COST-TYPE:free
X-ALT-DESC;FMTTYPE=text/html:<!DOCTYPE HTML PUBLIC '-//W3C//DTD HTML 3.2//E
 N'>\\n<HTML>\\n<HEAD>\\n<TITLE></TITLE>\\n</HEAD>\\n<BODY><div id='et-boc'
  class='et-boc'>\n			\n		<div class='et-l et-l--post'>\n			<div class='et_builder_
 inner_content et_pb_gutters3'>\n		<p>NMTAP and AgrAbility will have an infor
 mation table at the 2019 Student-Veteran Resource Fair.</p>\n<p> </p>\n<p>
  </p>\n<p><a href='http://www.tap.gcd.state.nm.us/wp-content/uploads/2019/
 10/2019-Student-Veterans-Resource-Fair-Flyer-Save-the-Date-11-15-2019-v3.p
 df'>2019 Student-Veteran Resource Fair Flyer</a></p>\n\n		</div>\n	</div>\n	\n
 			\n		</div>\n		</BODY></HTML>
END:VEVENT
END:VCALENDAR
